BEGIN:VCALENDAR
VERSION:2.0
PRODID:-//arlingtonalphas.com - ECPv6.15.17.1//NONSGML v1.0//EN
CALSCALE:GREGORIAN
METHOD:PUBLISH
X-ORIGINAL-URL:https://arlingtonalphas.com
X-WR-CALDESC:Events for arlingtonalphas.com
REFRESH-INTERVAL;VALUE=DURATION:PT1H
X-Robots-Tag:noindex
X-PUBLISHED-TTL:PT1H
BEGIN:VTIMEZONE
TZID:America/Chicago
BEGIN:DAYLIGHT
TZOFFSETFROM:-0600
TZOFFSETTO:-0500
TZNAME:CDT
DTSTART:20240310T080000
END:DAYLIGHT
BEGIN:STANDARD
TZOFFSETFROM:-0500
TZOFFSETTO:-0600
TZNAME:CST
DTSTART:20241103T070000
END:STANDARD
BEGIN:DAYLIGHT
TZOFFSETFROM:-0600
TZOFFSETTO:-0500
TZNAME:CDT
DTSTART:20250309T080000
END:DAYLIGHT
BEGIN:STANDARD
TZOFFSETFROM:-0500
TZOFFSETTO:-0600
TZNAME:CST
DTSTART:20251102T070000
END:STANDARD
BEGIN:DAYLIGHT
TZOFFSETFROM:-0600
TZOFFSETTO:-0500
TZNAME:CDT
DTSTART:20260308T080000
END:DAYLIGHT
BEGIN:STANDARD
TZOFFSETFROM:-0500
TZOFFSETTO:-0600
TZNAME:CST
DTSTART:20261101T070000
END:STANDARD
BEGIN:DAYLIGHT
TZOFFSETFROM:-0600
TZOFFSETTO:-0500
TZNAME:CDT
DTSTART:20270314T080000
END:DAYLIGHT
BEGIN:STANDARD
TZOFFSETFROM:-0500
TZOFFSETTO:-0600
TZNAME:CST
DTSTART:20271107T070000
END:STANDARD
END:VTIMEZONE
BEGIN:VEVENT
DTSTART;TZID=America/Chicago:20251101T080000
DTEND;TZID=America/Chicago:20251101T170000
DTSTAMP:20260425T223422
CREATED:20251101T222707Z
LAST-MODIFIED:20251101T222707Z
UID:1753-1761984000-1762016400@arlingtonalphas.com
SUMMARY:2026 MLK Scholarship Breakfast
DESCRIPTION:Jan 20\n8:00 AM – 10:30 AM CST \nConcord Church (Legacy Hall)\n6808 Pastor Bailey Dr\nDallas\, TX 75237\, USA \nCome celebrate with the Alpha 360 Foundation and the Alpha Phi Alpha Fraternity Inc.\, Nu Pi Lambda Chapter\, the legacy of Dr. Martin Luther King Jr. at our Annual MLK Jr. Scholarship Breakfast! This inspiring event brings the community together to honor Dr. King’s vision of equality\, service\, and justice.  \nFor any questions please email alpha360foundation@gmail.com
URL:https://arlingtonalphas.com/event/2026-mlk-scholarship-breakfast/
LOCATION:TX
ATTACH;FMTTYPE=image/png:https://arlingtonalphas.com/wp-content/uploads/2025/11/image-1.png
END:VEVENT
BEGIN:VEVENT
DTSTART;TZID=America/Chicago:20251123T170000
DTEND;TZID=America/Chicago:20251123T200000
DTSTAMP:20260425T223422
CREATED:20251101T222448Z
LAST-MODIFIED:20251101T222448Z
UID:1750-1763917200-1763928000@arlingtonalphas.com
SUMMARY:John E. Hanson Night of Community & Inspiration Benefit Concert
DESCRIPTION:Join us for the John E. Hanson Night of Community Inspiration Benefit Concert\, presented by Alpha Phi Alpha Fraternity\, Inc. Nu Pi Lambda Chapter in partnership with the Alpha 360 Foundation. This unforgettable evening will celebrate music\, unity\, and service\, with all proceeds directly supporting children and families in our service area. Your generosity makes a difference and all donations are tax-deductible. \nSunday\, November 23\, 2025 \n5:06 PM \nSt. John Church Unleashed  \n1701 W Jefferson St\, Grand Prairie\, TX
URL:https://arlingtonalphas.com/event/john-e-hanson-night-of-community-inspiration-benefit-concert/
LOCATION:St. John Church Unleashed\, 1701 West Jefferson Street\, Grand Prairie\, TX\, 75051\, United States
ATTACH;FMTTYPE=image/png:https://arlingtonalphas.com/wp-content/uploads/2025/11/image-2.png
END:VEVENT
BEGIN:VEVENT
DTSTART;TZID=America/Chicago:20260328T110000
DTEND;TZID=America/Chicago:20260328T170000
DTSTAMP:20260425T223422
CREATED:20260216T185250Z
LAST-MODIFIED:20260216T185556Z
UID:1769-1774695600-1774717200@arlingtonalphas.com
SUMMARY:Blazers & Brunch - Nu Pi Lambda's 45th Charter Day Celebration
DESCRIPTION:For 45 years\, the Nu Pi Lambda Chapter of Alpha Phi Alpha Fraternity\, Inc. has stood on commitment\, consistency\, and service. Brothers have given their time\, leadership\, and dedication to build a chapter rooted in excellence — and now it’s time to celebrate our legacy together. \nWe proudly present our 45th Charter Day Celebration\n“BLAZERS & BRUNCH” \nDate: Saturday\, March 28\, 2026\nTime: 11:00 AM \nLocation:\nOne Rangers Way\n1200 Nolan Ryan Expy\nArlington\, TX 76011\nUnited States \nThis is a Brother-centered celebration honoring where we started and recognizing how far we’ve come as a chapter. \nWhat to Expect:\n– Honoring the 16 Charter Members whose vision and sacrifice established Nu Pi Lambda\n– Celebrating the leadership and legacy of our Past Presidents\n– Recognition of sustained service\, excellence\, and brotherhood\n– An elevated brunch experience in a premier venue\n– A room filled with Nu Pi Lambda pride — Blazers required \nTickets:\n$45.00 to celebrate 45 years \nTickets are purchased directly through the chapter:\n– PayPal: https://paypal.me/NuPiLambda\n– Zelle: mailto:nupilambda@gmail.com \nPlease include in the notes: Blazers and Brunch \nThis is not just a brunch.\nThis is a Brotherhood moment — honoring the men who built Nu Pi Lambda and the Brothers who continue to move it forward. \nPull out your blazer. Stand in your pride. Celebrate the legacy. \nFraternally\, \nVictor Cathey\nChapter President\nNu Pi Lambda Chapter\nAlpha Phi Alpha Fraternity\, Inc.
URL:https://arlingtonalphas.com/event/blazers-brunch-nu-pi-lambdas-45th-charter-day-celebration/
LOCATION:One Ranger Way\, 1200 Nolan Ryan Expy\, Arlington\, TX\, 76011\, United States
ATTACH;FMTTYPE=image/png:https://arlingtonalphas.com/wp-content/uploads/2026/02/image-3.png
END:VEVENT
BEGIN:VEVENT
DTSTART;TZID=America/Chicago:20260613T170000
DTEND;TZID=America/Chicago:20260613T210000
DTSTAMP:20260425T223422
CREATED:20260320T012235Z
LAST-MODIFIED:20260320T012235Z
UID:1780-1781370000-1781384400@arlingtonalphas.com
SUMMARY:2026 Terry "Deke" German Black and Gold Gala
DESCRIPTION:Step into an evening of elegance\, purpose\, and celebration at the 2026 Black and Gold Gala an exclusive event honoring the legacy and future of leadership in our community. \nHeld in honor of our theme\, “Echoes of Yesterday\, Vision of Tomorrow\,” the gala invites guests to reflect on the generations who paved the way and to invest in the rising leaders shaping what’s next. The evening will feature formal dinner\, entertainment\, award presentations\, and a special tribute to our graduating class. \nWe will also recognize community partners\, donors\, and champions of educational equity whose support makes our mission possible. All proceeds from the evening support the Alpha 360 Foundation’s scholarship fund\, college readiness initiatives\, and year-round programming designed to uplift youth and strengthen families. \nJoin us as we honor the past\, celebrate the present\, and build the future together. \nPlease Note: When making your purchase\, this site will ask for a “contribution” to keep their platform 100% free. If you do not wish to contribute\, please select the field “other” and enter an amount of $0.00 or leave it blank.
URL:https://arlingtonalphas.com/event/2026-terry-deke-german-black-and-gold-gala/
LOCATION:City of Hurst Conference Center\, 1601 Campus Dr\, Hurst\, TX\, 76054\, United States
ATTACH;FMTTYPE=image/png:https://arlingtonalphas.com/wp-content/uploads/2026/03/image-4.png
END:VEVENT
END:VCALENDAR